BEGIN:VCALENDAR
VERSION:2.0
PRODID:-//Squarespace Inc/Squarespace 6//v6//EN
BEGIN:VEVENT
UID:5bb1acc7b208fcf0a2b4c994@squarespace.com
DTSTAMP:20181002T071829Z
DTSTART:20181018T070000Z
DTEND:20181018T090000Z
SUMMARY:Georges Mora Fellowship Fundraiser 2018
GEO:-37.81403;144.972991
LOCATION:The LaTrobe Ballroom\, Sofitel Melbourne on Collins\, 25 Collins S
 treet\, Melbourne\, VIC\, 3000\, Australia
END:VEVENT
END:VCALENDAR
