BEGIN:VCALENDAR
VERSION:2.0
PRODID:-//Squarespace Inc/Squarespace 6//v6//EN
BEGIN:VEVENT
UID:5bb1ba8e4192022ca7cbca77@squarespace.com
DTSTAMP:20181001T062720Z
DTSTART:20181013T080000Z
DTEND:20181013T093000Z
SUMMARY:GASP Art Project - James Geurts
GEO:-42.826258;147.279924
LOCATION:GASP Elwick Bay Foreshore\, Brooker Highway\, Glenorchy\, TAS\, 70
 10\, Australia
END:VEVENT
END:VCALENDAR
