BEGIN:VCALENDAR
VERSION:2.0
PRODID:-//Squarespace Inc/Squarespace 6//v6//EN
BEGIN:VEVENT
UID:5bb43851e79c70ec59f118d3@squarespace.com
DTSTAMP:20181003T035618Z
DTSTART:20181004T070000Z
DTEND:20181115T060000Z
SUMMARY:SIGNIFICANT VELOCITIES | Jeremy Bakker\, Catherine Evans\, David Ha
 ines &amp\; Joyce Hinterding\, Jacob Kirkegaard &amp\; Zoe Scoglio.
GEO:-37.80651;144.963538
LOCATION:RMIT Building 94\, Level 2\, 23-27 Cardigan Street\,\, Carlton\, 3
 053\, Australia
END:VEVENT
END:VCALENDAR
