BEGIN:VCALENDAR
VERSION:2.0
PRODID:-//Squarespace Inc/Squarespace 6//v6//EN
BEGIN:VEVENT
UID:5becc40a4fa51a839265fc8d@squarespace.com
DTSTAMP:20181115T010356Z
DTSTART:20181109T230000Z
DTEND:20190204T060000Z
SUMMARY:Weapons For The Soldier
GEO:-34.032867;151.082208
LOCATION:Hazelhurst Arts Centre\, 782 Kingsway\, Gymea\, NSW\, 2227\, Austr
 alia
END:VEVENT
END:VCALENDAR
