BEGIN:VCALENDAR
VERSION:2.0
PRODID:-//Squarespace Inc/Squarespace 6//v6//EN
BEGIN:VEVENT
UID:5bf37e96cd8366b5875508e6@squarespace.com
DTSTAMP:20181120T033518Z
DTSTART:20181121T070000Z
DTEND:20181221T070000Z
SUMMARY: SEISMIC FIELD  BY  JAMES GEURTS
GEO:40.720756;-74.000761
LOCATION:GAGPROJECTS\, 39 Rundle Street\, Kent Town\, SA\, 5067\, Australia
END:VEVENT
END:VCALENDAR
