BEGIN:VCALENDAR
VERSION:2.0
PRODID:-//Squarespace Inc/Squarespace 6//v6//EN
BEGIN:VEVENT
UID:5bc72067b208fc68cd43bc59@squarespace.com
DTSTAMP:20181017T122253Z
DTSTART:20181128T070000Z
DTEND:20181201T070000Z
SUMMARY:Nadja-Léona
GEO:-37.861803;144.978781
LOCATION:Alliance Française de Melbourne\, 51 Grey Street\, St Kilda\, VIC 
 3182\, Australia
END:VEVENT
END:VCALENDAR
