BEGIN:VCALENDAR
VERSION:2.0
PRODID:-//Squarespace Inc/Squarespace 6//v6//EN
BEGIN:VEVENT
UID:5bad9898085229369ccb769a@squarespace.com
DTSTAMP:20180928T031921Z
DTSTART:20180901T030000Z
DTEND:20181001T040000Z
SUMMARY:Catherine Evans joins Kleister 2018\, Berlin
GEO:52.497264;13.438342
LOCATION:KLEISTER 2018\, Görlitzer Straße\, Berlin\, Berlin\, 10997\, Germa
 ny
END:VEVENT
END:VCALENDAR
