BEGIN:VCALENDAR
VERSION:2.0
PRODID:-//Squarespace Inc/Squarespace 6//v6//EN
BEGIN:VEVENT
UID:5bad924753450a6654e68a69@squarespace.com
DTSTAMP:20180928T032133Z
DTSTART:20180918T023000Z
DTEND:20181201T023000Z
SUMMARY:Brook Andrew at Ten Cubed
GEO:-37.853274;145.04389
LOCATION:Ten Cubed\, 1489 Malvern Road\, Glen Iris\, VIC\, 3146\, Australia
END:VEVENT
END:VCALENDAR
