BEGIN:VCALENDAR
VERSION:2.0
PRODID:-//Squarespace Inc/Squarespace 6//v6//EN
BEGIN:VEVENT
UID:5c622ed3f4e1fcf05b924343@squarespace.com
DTSTAMP:20190212T023810Z
DTSTART:20190216T020000Z
DTEND:20190316T060000Z
SUMMARY:Brook Andrew - La Razza: Quiet Noise
GEO:-37.813099;144.971373
LOCATION:TOLARNO GALLERIES\, Level 4\, 104 Exhibition Street\,\, Melbourne 
 3000\, Australia
END:VEVENT
END:VCALENDAR
